Package: goSorensen Version: 1.8.0 Command: /home/biocbuild/bbs-3.20-bioc/R/bin/R CMD build --keep-empty-dirs --no-resave-data --md5 goSorensen StartedAt: 2025-02-03 17:39:53 -0500 (Mon, 03 Feb 2025) EndedAt: 2025-02-03 17:46:36 -0500 (Mon, 03 Feb 2025) EllapsedTime: 403.5 seconds RetCode: 0 Status: OK PackageFile: goSorensen_1.8.0.tar.gz PackageFileSize: 1.54 MiB