Package: goSorensen Version: 1.8.0 Command: /home/biocbuild/bbs-3.20-bioc/R/bin/R CMD INSTALL goSorensen StartedAt: 2025-02-10 15:48:56 -0500 (Mon, 10 Feb 2025) EndedAt: 2025-02-10 15:49:09 -0500 (Mon, 10 Feb 2025) EllapsedTime: 13.1 seconds RetCode: 0 Status: OK