Package: goSorensen Version: 1.8.0 Command: F:\biocbuild\bbs-3.20-bioc\R\bin\R.exe CMD INSTALL goSorensen StartedAt: 2025-02-03 16:13:36 -0500 (Mon, 03 Feb 2025) EndedAt: 2025-02-03 16:14:37 -0500 (Mon, 03 Feb 2025) EllapsedTime: 60.4 seconds RetCode: 0 Status: OK