Package: goSorensen Version: 1.8.0 Command: /home/biocbuild/R/R/bin/R CMD build --keep-empty-dirs --no-resave-data goSorensen StartedAt: 2025-02-04 00:03:34 -0000 (Tue, 04 Feb 2025) EndedAt: 2025-02-04 00:13:20 -0000 (Tue, 04 Feb 2025) EllapsedTime: 586.4 seconds RetCode: 0 Status: OK PackageFile: goSorensen_1.8.0.tar.gz PackageFileSize: 1.575 MiB