Package: goSorensen Version: 1.8.0 Command: /home/biocbuild/R/R/bin/R CMD INSTALL goSorensen StartedAt: 2025-02-03 21:07:16 -0000 (Mon, 03 Feb 2025) EndedAt: 2025-02-03 21:07:34 -0000 (Mon, 03 Feb 2025) EllapsedTime: 17.9 seconds RetCode: 0 Status: OK