Package: goTools Version: 1.80.0 Command: /Library/Frameworks/R.framework/Resources/bin/R CMD INSTALL goTools StartedAt: 2025-02-03 15:35:49 -0500 (Mon, 03 Feb 2025) EndedAt: 2025-02-03 15:36:17 -0500 (Mon, 03 Feb 2025) EllapsedTime: 28.2 seconds RetCode: 0 Status: OK