Package: goTools Version: 1.80.0 Command: /home/biocbuild/bbs-3.20-bioc/R/bin/R CMD check --install=check:goTools.install-out.txt --library=/home/biocbuild/bbs-3.20-bioc/R/site-library --timings goTools_1.80.0.tar.gz StartedAt: 2025-02-03 22:56:11 -0500 (Mon, 03 Feb 2025) EndedAt: 2025-02-03 22:57:38 -0500 (Mon, 03 Feb 2025) EllapsedTime: 87.0 seconds RetCode: 0 Status: OK CheckDir: goTools.Rcheck Warnings: 0