Package: goTools Version: 1.80.0 Command: /home/biocbuild/bbs-3.20-bioc/R/bin/R CMD INSTALL goTools StartedAt: 2025-02-03 15:25:22 -0500 (Mon, 03 Feb 2025) EndedAt: 2025-02-03 15:25:34 -0500 (Mon, 03 Feb 2025) EllapsedTime: 11.3 seconds RetCode: 0 Status: OK