Package: goTools Version: 1.80.0 Command: chmod a+r goTools -R && F:\biocbuild\bbs-3.20-bioc\R\bin\R.exe CMD build --keep-empty-dirs --no-resave-data goTools StartedAt: 2025-02-03 19:34:12 -0500 (Mon, 03 Feb 2025) EndedAt: 2025-02-03 19:34:40 -0500 (Mon, 03 Feb 2025) EllapsedTime: 28.0 seconds RetCode: 0 Status: OK PackageFile: goTools_1.80.0.tar.gz PackageFileSize: 105.1 KiB