Package: goTools Version: 1.80.0 Command: /home/biocbuild/R/R/bin/R CMD build --keep-empty-dirs --no-resave-data goTools StartedAt: 2025-02-04 00:04:50 -0000 (Tue, 04 Feb 2025) EndedAt: 2025-02-04 00:05:13 -0000 (Tue, 04 Feb 2025) EllapsedTime: 23.0 seconds RetCode: 0 Status: OK PackageFile: goTools_1.80.0.tar.gz PackageFileSize: 234.8 KiB