Package: goTools Version: 1.80.0 Command: /home/biocbuild/R/R/bin/R CMD check --install=check:goTools.install-out.txt --library=/home/biocbuild/R/R/site-library --no-vignettes --timings goTools_1.80.0.tar.gz StartedAt: 2025-02-04 07:36:40 -0000 (Tue, 04 Feb 2025) EndedAt: 2025-02-04 07:38:18 -0000 (Tue, 04 Feb 2025) EllapsedTime: 98.1 seconds RetCode: 0 Status: OK CheckDir: goTools.Rcheck Warnings: 0