Package: goTools Version: 1.80.0 Command: /home/biocbuild/R/R/bin/R CMD INSTALL goTools StartedAt: 2025-02-10 20:24:19 -0000 (Mon, 10 Feb 2025) EndedAt: 2025-02-10 20:24:35 -0000 (Mon, 10 Feb 2025) EllapsedTime: 16.0 seconds RetCode: 0 Status: OK