Package: gpls Version: 1.78.0 Command: rm -rf gpls.buildbin-libdir && mkdir gpls.buildbin-libdir && /Users/biocbuild/BBS/utils/build-universal.sh gpls_1.78.0.tar.gz /Library/Frameworks/R.framework/Resources/bin/R gpls.buildbin-libdir StartedAt: 2025-02-05 16:07:17 -0500 (Wed, 05 Feb 2025) EndedAt: 2025-02-05 16:07:22 -0500 (Wed, 05 Feb 2025) EllapsedTime: 4.5 seconds RetCode: 0 Status: OK PackageFile: gpls_1.78.0.tgz PackageFileSize: 294.4 KiB