Package: gpls Version: 1.78.0 Command: /Library/Frameworks/R.framework/Resources/bin/R CMD INSTALL gpls StartedAt: 2025-02-03 15:09:14 -0500 (Mon, 03 Feb 2025) EndedAt: 2025-02-03 15:09:16 -0500 (Mon, 03 Feb 2025) EllapsedTime: 2.5 seconds RetCode: 0 Status: OK