Package: gpls Version: 1.78.0 Command: /Library/Frameworks/R.framework/Resources/bin/R CMD build --keep-empty-dirs --no-resave-data gpls StartedAt: 2025-02-03 19:21:43 -0500 (Mon, 03 Feb 2025) EndedAt: 2025-02-03 19:22:09 -0500 (Mon, 03 Feb 2025) EllapsedTime: 26.2 seconds RetCode: 0 Status: OK PackageFile: gpls_1.78.0.tar.gz PackageFileSize: 233.2 KiB