Package: gpls Version: 1.78.0 Command: /home/biocbuild/bbs-3.20-bioc/R/bin/R CMD INSTALL gpls StartedAt: 2025-02-03 15:13:26 -0500 (Mon, 03 Feb 2025) EndedAt: 2025-02-03 15:13:30 -0500 (Mon, 03 Feb 2025) EllapsedTime: 4.1 seconds RetCode: 0 Status: OK