Package: gpls Version: 1.78.0 Command: chmod a+r gpls -R && F:\biocbuild\bbs-3.20-bioc\R\bin\R.exe CMD build --keep-empty-dirs --no-resave-data gpls StartedAt: 2025-02-03 19:34:18 -0500 (Mon, 03 Feb 2025) EndedAt: 2025-02-03 19:34:38 -0500 (Mon, 03 Feb 2025) EllapsedTime: 20.2 seconds RetCode: 0 Status: OK PackageFile: gpls_1.78.0.tar.gz PackageFileSize: 103.2 KiB