Package: gpuMagic Version: 1.22.0 Command: /Library/Frameworks/R.framework/Resources/bin/R CMD build --keep-empty-dirs --no-resave-data gpuMagic StartedAt: 2025-02-03 19:22:09 -0500 (Mon, 03 Feb 2025) EndedAt: 2025-02-03 19:23:47 -0500 (Mon, 03 Feb 2025) EllapsedTime: 97.7 seconds RetCode: 0 Status: OK PackageFile: gpuMagic_1.22.0.tar.gz PackageFileSize: 736.9 KiB