Package: gpuMagic Version: 1.22.0 Command: /home/biocbuild/R/R/bin/R CMD INSTALL gpuMagic StartedAt: 2025-02-03 20:48:02 -0000 (Mon, 03 Feb 2025) EndedAt: 2025-02-03 20:48:05 -0000 (Mon, 03 Feb 2025) EllapsedTime: 3.0 seconds RetCode: 1 Status: ERROR