Package: gscreend Version: 1.20.0 Command: /Library/Frameworks/R.framework/Resources/bin/R CMD check --install=check:gscreend.install-out.txt --library=/Library/Frameworks/R.framework/Resources/library --no-vignettes --timings gscreend_1.20.0.tar.gz StartedAt: 2025-02-04 21:58:46 -0500 (Tue, 04 Feb 2025) EndedAt: 2025-02-04 22:03:14 -0500 (Tue, 04 Feb 2025) EllapsedTime: 267.7 seconds RetCode: 0 Status: OK CheckDir: gscreend.Rcheck Warnings: 0