Package: gscreend Version: 1.20.0 Command: rm -rf gscreend.buildbin-libdir && mkdir gscreend.buildbin-libdir && F:\biocbuild\bbs-3.20-bioc\R\bin\R.exe CMD INSTALL --build --library=gscreend.buildbin-libdir gscreend_1.20.0.tar.gz StartedAt: 2025-02-11 08:37:02 -0500 (Tue, 11 Feb 2025) EndedAt: 2025-02-11 08:37:51 -0500 (Tue, 11 Feb 2025) EllapsedTime: 48.7 seconds RetCode: 0 Status: OK PackageFile: gscreend_1.20.0.zip PackageFileSize: 3.137 MiB