Package: gscreend Version: 1.20.0 Command: /home/biocbuild/R/R/bin/R CMD build --keep-empty-dirs --no-resave-data gscreend StartedAt: 2025-02-11 00:00:11 -0000 (Tue, 11 Feb 2025) EndedAt: 2025-02-11 00:02:51 -0000 (Tue, 11 Feb 2025) EllapsedTime: 160.2 seconds RetCode: 0 Status: OK PackageFile: gscreend_1.20.0.tar.gz PackageFileSize: 3.131 MiB