Package: gsean Version: 1.26.0 Command: /Library/Frameworks/R.framework/Resources/bin/R CMD INSTALL gsean StartedAt: 2025-02-10 17:31:26 -0500 (Mon, 10 Feb 2025) EndedAt: 2025-02-10 17:31:54 -0500 (Mon, 10 Feb 2025) EllapsedTime: 27.7 seconds RetCode: 0 Status: OK