Package: gsean Version: 1.26.0 Command: /home/biocbuild/bbs-3.20-bioc/R/bin/R CMD build --keep-empty-dirs --no-resave-data --md5 gsean StartedAt: 2025-02-10 17:35:44 -0500 (Mon, 10 Feb 2025) EndedAt: 2025-02-10 17:36:40 -0500 (Mon, 10 Feb 2025) EllapsedTime: 56.0 seconds RetCode: 0 Status: OK PackageFile: gsean_1.26.0.tar.gz PackageFileSize: 1.535 MiB