Package: gsean Version: 1.26.0 Command: rm -rf gsean.buildbin-libdir && mkdir gsean.buildbin-libdir && F:\biocbuild\bbs-3.20-bioc\R\bin\R.exe CMD INSTALL --build --library=gsean.buildbin-libdir gsean_1.26.0.tar.gz StartedAt: 2025-02-11 08:37:14 -0500 (Tue, 11 Feb 2025) EndedAt: 2025-02-11 08:37:47 -0500 (Tue, 11 Feb 2025) EllapsedTime: 32.5 seconds RetCode: 0 Status: OK PackageFile: gsean_1.26.0.zip PackageFileSize: 1.563 MiB