Package: gsean Version: 1.26.0 Command: chmod a+r gsean -R && F:\biocbuild\bbs-3.20-bioc\R\bin\R.exe CMD build --keep-empty-dirs --no-resave-data gsean StartedAt: 2025-02-03 19:37:32 -0500 (Mon, 03 Feb 2025) EndedAt: 2025-02-03 19:38:50 -0500 (Mon, 03 Feb 2025) EllapsedTime: 78.0 seconds RetCode: 0 Status: OK PackageFile: gsean_1.26.0.tar.gz PackageFileSize: 1.535 MiB