Package: gsean Version: 1.26.0 Command: /home/biocbuild/R/R/bin/R CMD INSTALL gsean StartedAt: 2025-02-03 21:09:38 -0000 (Mon, 03 Feb 2025) EndedAt: 2025-02-03 21:10:07 -0000 (Mon, 03 Feb 2025) EllapsedTime: 29.3 seconds RetCode: 0 Status: OK