Package: gtrellis Version: 1.38.0 Maintainer: Zuguang Gu MaintainerEmail: z.gu at dkfz.de git_url: https://git.bioconductor.org/packages/gtrellis git_branch: RELEASE_3_20 git_last_commit: 8754065 git_last_commit_date: 2024-10-29 09:59:41 -0500 (Tue, 29 Oct 2024)