Package: gtrellis Version: 1.38.0 Command: /Library/Frameworks/R.framework/Resources/bin/R CMD INSTALL gtrellis StartedAt: 2025-02-10 15:19:49 -0500 (Mon, 10 Feb 2025) EndedAt: 2025-02-10 15:20:02 -0500 (Mon, 10 Feb 2025) EllapsedTime: 12.8 seconds RetCode: 0 Status: OK