Package: gtrellis Version: 1.38.0 Command: /Library/Frameworks/R.framework/Resources/bin/R CMD INSTALL gtrellis StartedAt: 2025-02-03 15:21:12 -0500 (Mon, 03 Feb 2025) EndedAt: 2025-02-03 15:21:36 -0500 (Mon, 03 Feb 2025) EllapsedTime: 24.8 seconds RetCode: 0 Status: OK