Package: gtrellis Version: 1.38.0 Command: /home/biocbuild/bbs-3.20-bioc/R/bin/R CMD build --keep-empty-dirs --no-resave-data --md5 gtrellis StartedAt: 2025-02-10 17:36:38 -0500 (Mon, 10 Feb 2025) EndedAt: 2025-02-10 17:39:04 -0500 (Mon, 10 Feb 2025) EllapsedTime: 146.2 seconds RetCode: 0 Status: OK PackageFile: gtrellis_1.38.0.tar.gz PackageFileSize: 2.736 MiB