Package: gtrellis Version: 1.38.0 Command: /home/biocbuild/bbs-3.20-bioc/R/bin/R CMD check --install=check:gtrellis.install-out.txt --library=/home/biocbuild/bbs-3.20-bioc/R/site-library --timings gtrellis_1.38.0.tar.gz StartedAt: 2025-02-03 23:02:13 -0500 (Mon, 03 Feb 2025) EndedAt: 2025-02-03 23:06:37 -0500 (Mon, 03 Feb 2025) EllapsedTime: 263.4 seconds RetCode: 0 Status: OK CheckDir: gtrellis.Rcheck Warnings: 0