Package: gtrellis Version: 1.37.0 Command: chmod a+r gtrellis -R && F:\biocbuild\bbs-3.20-bioc\R\bin\R.exe CMD build --keep-empty-dirs --no-resave-data gtrellis StartedAt: 2024-06-09 19:30:20 -0400 (Sun, 09 Jun 2024) EndedAt: 2024-06-09 19:33:51 -0400 (Sun, 09 Jun 2024) EllapsedTime: 210.6 seconds RetCode: 0 Status: OK PackageFile: gtrellis_1.37.0.tar.gz PackageFileSize: 1.408 MiB