Package: gtrellis Version: 1.38.0 Command: F:\biocbuild\bbs-3.20-bioc\R\bin\R.exe CMD INSTALL gtrellis StartedAt: 2025-02-03 15:49:50 -0500 (Mon, 03 Feb 2025) EndedAt: 2025-02-03 15:50:09 -0500 (Mon, 03 Feb 2025) EllapsedTime: 19.3 seconds RetCode: 0 Status: OK