Package: gtrellis Version: 1.38.0 Command: /home/biocbuild/R/R/bin/R CMD build --keep-empty-dirs --no-resave-data gtrellis StartedAt: 2025-02-11 00:02:05 -0000 (Tue, 11 Feb 2025) EndedAt: 2025-02-11 00:05:41 -0000 (Tue, 11 Feb 2025) EllapsedTime: 216.2 seconds RetCode: 0 Status: OK PackageFile: gtrellis_1.38.0.tar.gz PackageFileSize: 1.653 MiB