Package: gtrellis Version: 1.38.0 Command: /home/biocbuild/R/R/bin/R CMD INSTALL gtrellis StartedAt: 2025-02-03 20:29:23 -0000 (Mon, 03 Feb 2025) EndedAt: 2025-02-03 20:29:37 -0000 (Mon, 03 Feb 2025) EllapsedTime: 13.9 seconds RetCode: 0 Status: OK