Package: gtrellis Version: 1.38.0 Command: /home/biocbuild/bbs-3.20-bioc/R/bin/R CMD build --keep-empty-dirs --no-resave-data gtrellis StartedAt: 2024-11-19 19:23:01 -0500 (Tue, 19 Nov 2024) EndedAt: 2024-11-19 19:25:01 -0500 (Tue, 19 Nov 2024) EllapsedTime: 119.8 seconds RetCode: 0 Status: OK PackageFile: gtrellis_1.38.0.tar.gz PackageFileSize: 2.726 MiB