Package: h5vc Version: 2.40.0 Command: rm -rf h5vc.buildbin-libdir && mkdir h5vc.buildbin-libdir && /Users/biocbuild/BBS/utils/build-universal.sh h5vc_2.40.0.tar.gz /Library/Frameworks/R.framework/Resources/bin/R h5vc.buildbin-libdir StartedAt: 2025-02-01 15:14:47 -0500 (Sat, 01 Feb 2025) EndedAt: 2025-02-01 15:15:13 -0500 (Sat, 01 Feb 2025) EllapsedTime: 26.1 seconds RetCode: 0 Status: OK PackageFile: h5vc_2.40.0.tgz PackageFileSize: 2.06 MiB