Package: h5vc Version: 2.40.0 Command: /Library/Frameworks/R.framework/Resources/bin/R CMD INSTALL h5vc StartedAt: 2025-01-30 16:18:23 -0500 (Thu, 30 Jan 2025) EndedAt: 2025-01-30 16:18:46 -0500 (Thu, 30 Jan 2025) EllapsedTime: 23.1 seconds RetCode: 0 Status: OK