Package: h5vc Version: 2.40.0 Command: /Library/Frameworks/R.framework/Resources/bin/R CMD check --install=check:h5vc.install-out.txt --library=/Library/Frameworks/R.framework/Resources/library --no-vignettes --timings h5vc_2.40.0.tar.gz StartedAt: 2024-11-09 04:15:05 -0500 (Sat, 09 Nov 2024) EndedAt: 2024-11-09 04:19:49 -0500 (Sat, 09 Nov 2024) EllapsedTime: 284.9 seconds RetCode: 0 Status: WARNINGS CheckDir: h5vc.Rcheck Warnings: 1