Package: h5vc Version: 2.40.1 Command: rm -rf h5vc.buildbin-libdir && mkdir h5vc.buildbin-libdir && /Users/biocbuild/BBS/utils/build-universal.sh h5vc_2.40.1.tar.gz /Library/Frameworks/R.framework/Resources/bin/R h5vc.buildbin-libdir StartedAt: 2025-02-04 13:07:38 -0500 (Tue, 04 Feb 2025) EndedAt: 2025-02-04 13:08:32 -0500 (Tue, 04 Feb 2025) EllapsedTime: 53.8 seconds RetCode: 0 Status: OK PackageFile: h5vc_2.40.1.tgz PackageFileSize: 2.159 MiB