Package: h5vc Version: 2.40.1 Command: /Library/Frameworks/R.framework/Resources/bin/R CMD build --keep-empty-dirs --no-resave-data h5vc StartedAt: 2025-02-03 19:30:30 -0500 (Mon, 03 Feb 2025) EndedAt: 2025-02-03 19:37:09 -0500 (Mon, 03 Feb 2025) EllapsedTime: 398.5 seconds RetCode: 0 Status: OK PackageFile: h5vc_2.40.1.tar.gz PackageFileSize: 1.689 MiB