Package: h5vc Version: 2.40.1 Command: /Library/Frameworks/R.framework/Resources/bin/R CMD check --install=check:h5vc.install-out.txt --library=/Library/Frameworks/R.framework/Resources/library --no-vignettes --timings h5vc_2.40.1.tar.gz StartedAt: 2025-02-04 04:48:34 -0500 (Tue, 04 Feb 2025) EndedAt: 2025-02-04 04:54:50 -0500 (Tue, 04 Feb 2025) EllapsedTime: 375.5 seconds RetCode: 0 Status: WARNINGS CheckDir: h5vc.Rcheck Warnings: 1