Package: h5vc Version: 2.40.1 Command: /Library/Frameworks/R.framework/Resources/bin/R CMD INSTALL h5vc StartedAt: 2025-02-03 15:51:25 -0500 (Mon, 03 Feb 2025) EndedAt: 2025-02-03 15:52:08 -0500 (Mon, 03 Feb 2025) EllapsedTime: 43.0 seconds RetCode: 0 Status: OK