Package: h5vc Version: 2.40.0 Command: /home/biocbuild/bbs-3.20-bioc/R/bin/R CMD build --keep-empty-dirs --no-resave-data --md5 h5vc StartedAt: 2025-01-30 17:35:41 -0500 (Thu, 30 Jan 2025) EndedAt: 2025-01-30 17:39:23 -0500 (Thu, 30 Jan 2025) EllapsedTime: 222.3 seconds RetCode: 0 Status: OK PackageFile: h5vc_2.40.0.tar.gz PackageFileSize: 1.624 MiB