Package: h5vc Version: 2.40.0 Command: /home/biocbuild/bbs-3.20-bioc/R/bin/R CMD INSTALL h5vc StartedAt: 2025-01-30 15:25:48 -0500 (Thu, 30 Jan 2025) EndedAt: 2025-01-30 15:26:06 -0500 (Thu, 30 Jan 2025) EllapsedTime: 18.5 seconds RetCode: 0 Status: OK