Package: h5vc Version: 2.40.0 Command: chmod a+r h5vc -R && F:\biocbuild\bbs-3.20-bioc\R\bin\R.exe CMD build --keep-empty-dirs --no-resave-data h5vc StartedAt: 2025-01-30 19:26:08 -0500 (Thu, 30 Jan 2025) EndedAt: 2025-01-30 19:28:09 -0500 (Thu, 30 Jan 2025) EllapsedTime: 120.3 seconds RetCode: 0 Status: OK PackageFile: h5vc_2.40.0.tar.gz PackageFileSize: 1.069 MiB