Package: h5vc Version: 2.40.1 Command: F:\biocbuild\bbs-3.20-bioc\R\bin\R.exe CMD INSTALL h5vc StartedAt: 2025-02-03 15:55:51 -0500 (Mon, 03 Feb 2025) EndedAt: 2025-02-03 15:56:36 -0500 (Mon, 03 Feb 2025) EllapsedTime: 44.1 seconds RetCode: 0 Status: OK