Package: h5vc Version: 2.40.1 Command: /home/biocbuild/R/R/bin/R CMD build --keep-empty-dirs --no-resave-data h5vc StartedAt: 2025-02-04 00:12:50 -0000 (Tue, 04 Feb 2025) EndedAt: 2025-02-04 00:52:50 -0000 (Tue, 04 Feb 2025) EllapsedTime: 2400.2 seconds RetCode: None Status: TIMEOUT PackageFile: None PackageFileSize: NA