Package: h5vc Version: 2.40.0 Command: /home/biocbuild/R/R/bin/R CMD check --install=check:h5vc.install-out.txt --library=/home/biocbuild/R/R/site-library --no-vignettes --timings h5vc_2.40.0.tar.gz StartedAt: 2025-01-31 07:01:51 -0000 (Fri, 31 Jan 2025) EndedAt: 2025-01-31 07:05:13 -0000 (Fri, 31 Jan 2025) EllapsedTime: 201.1 seconds RetCode: 0 Status: WARNINGS CheckDir: h5vc.Rcheck Warnings: 1